BEGIN:VCALENDAR
VERSION:2.0
PRODID:-//YGC - ECPv6.15.14//NONSGML v1.0//EN
CALSCALE:GREGORIAN
METHOD:PUBLISH
X-ORIGINAL-URL:https://younggenchurch.com
X-WR-CALDESC:Events for YGC
REFRESH-INTERVAL;VALUE=DURATION:PT1H
X-Robots-Tag:noindex
X-PUBLISHED-TTL:PT1H
BEGIN:VTIMEZONE
TZID:America/Vancouver
BEGIN:DAYLIGHT
TZOFFSETFROM:-0800
TZOFFSETTO:-0700
TZNAME:PDT
DTSTART:20250309T100000
END:DAYLIGHT
BEGIN:STANDARD
TZOFFSETFROM:-0700
TZOFFSETTO:-0800
TZNAME:PST
DTSTART:20251102T090000
END:STANDARD
BEGIN:DAYLIGHT
TZOFFSETFROM:-0800
TZOFFSETTO:-0700
TZNAME:PDT
DTSTART:20260308T100000
END:DAYLIGHT
BEGIN:STANDARD
TZOFFSETFROM:-0700
TZOFFSETTO:-0800
TZNAME:PST
DTSTART:20261101T090000
END:STANDARD
BEGIN:DAYLIGHT
TZOFFSETFROM:-0800
TZOFFSETTO:-0700
TZNAME:PDT
DTSTART:20270314T100000
END:DAYLIGHT
BEGIN:STANDARD
TZOFFSETFROM:-0700
TZOFFSETTO:-0800
TZNAME:PST
DTSTART:20271107T090000
END:STANDARD
END:VTIMEZONE
BEGIN:VEVENT
DTSTART;TZID=America/Vancouver:20260207T180000
DTEND;TZID=America/Vancouver:20260207T200000
DTSTAMP:20260421T052505
CREATED:20260205T031811Z
LAST-MODIFIED:20260207T014107Z
UID:46846-1770487200-1770494400@younggenchurch.com
SUMMARY:Saturday Fellowship
DESCRIPTION:Join us every Saturday for a time of worship\, prayer\, and fellowship at our church in Vancouver\, Canada. This weekly gathering is a welcoming space for individuals and families to come together\, grow in faith\, and experience God’s presence in a meaningful way. Whether you are new to the city\, searching for spiritual renewal\, or looking for a church community to call home\, you are warmly invited to worship with us. Come as you are and be refreshed through praise\, the Word\, and loving fellowship.
URL:https://younggenchurch.com/event/saturday-fellowship/
LOCATION:Young Gen Church\, 1634 E 41st Ave\, Vancouver\, British Columbia\, V5P 1K5\, Canada
CATEGORIES:Fellowship
ATTACH;FMTTYPE=image/jpeg:https://younggenchurch.com/wp-content/uploads/2026/01/25.jpeg
ORGANIZER;CN="Young Gen Church":MAILTO:info@younggenchurch.com
END:VEVENT
END:VCALENDAR